BEGIN:VCALENDAR
VERSION:2.0
PRODID:-//ChamberMaster//Event Calendar 2.0//EN
METHOD:PUBLISH
X-PUBLISHED-TTL:P3D
REFRESH-INTERVAL:P3D
CALSCALE:GREGORIAN
BEGIN:VEVENT
DTSTART:20260625T140000Z
DTEND:20260625T220000Z
X-MICROSOFT-CDO-ALLDAYEVENT:FALSE
SUMMARY:Introduction to GD&T - June 25\, 2026
DESCRIPTION:Introduction to GD&T - Level 1\n\nGeometric Dimensioning & Tolerancing for Manufacturing Professionals\n\n\n\nAbout This Workshop\n\nGeometric Dimensioning and Tolerancing (GD&T) is the symbolic language used on engineering drawings to define allowable variation in part geometry. When engineers\, machinists\, and inspectors all read prints the same way\, quality improves and parts fit the first time.\n\n\n\nWhat You'll Learn\n\nThis introductory workshop builds a strong foundation in GD&T. You will learn how to:\n\n	Explain the history\, purpose\, and benefits of GD&T\n	Define datums and how they establish part reference frames\n	Interpret feature control frames - tolerance symbols\, material condition modifiers\, and datum references\n	Apply true position tolerancing through hands-on exercises \n\nWho Should Attend\n\nAmone in your organization who creates\, reads\, or works from engineering drawings\, including:\n\n	Design engineers and drafters\n	Manufacturing and process engineers\n	Quality engineers and inspectors\n	Machinists and CNC programmers\n	Purchasing and supplier quality personnel\n	Production supervisors\n\nWhy It Matters\n\n\n	Save money by catching design issues before the shop floor\n	Communicate requirements in a clear\, standard language\n	Eliminate costly tolerance stack-up issues\n	Improve inspection reliability and repeatability\n	Broaden your supplier base - no more tribal knowledge
X-ALT-DESC;FMTTYPE=text/html:<strong><span style="font-size:16px\;">Introduction to GD&amp\;T - Level 1</span></strong><br />\n<em>Geometric Dimensioning &amp\; Tolerancing for Manufacturing Professionals</em><br />\n<br />\n<u><strong>About This Workshop</strong></u><br />\nGeometric Dimensioning and Tolerancing (GD&amp\;T) is the symbolic language used on engineering drawings to define allowable variation in part geometry. When engineers\, machinists\, and inspectors all read prints the same way\, quality improves and parts fit the first time.<br />\n<br />\n<u><strong>What You&#39\;ll Learn</strong></u><br />\nThis introductory workshop builds a strong foundation in GD&amp\;T. You will learn how to:\n<ul>\n	<li>Explain the history\, purpose\, and benefits of GD&amp\;T</li>\n	<li>Define datums and how they establish part reference frames</li>\n	<li>Interpret feature control frames - tolerance symbols\, material condition modifiers\, and datum references</li>\n	<li>Apply true position tolerancing through hands-on exercises&nbsp\;</li>\n</ul>\n<u><strong>Who Should Attend</strong></u><br />\nAmone in your organization who creates\, reads\, or works from engineering drawings\, including:\n<ul>\n	<li>Design engineers and drafters</li>\n	<li>Manufacturing and process engineers</li>\n	<li>Quality engineers and inspectors</li>\n	<li>Machinists and CNC programmers</li>\n	<li>Purchasing and supplier quality personnel</li>\n	<li>Production supervisors</li>\n</ul>\n<u><strong>Why It Matters</strong></u>\n\n<ul>\n	<li>Save money by catching design issues before the shop floor</li>\n	<li>Communicate requirements in a clear\, standard language</li>\n	<li>Eliminate costly tolerance stack-up issues</li>\n	<li>Improve inspection reliability and repeatability</li>\n	<li>Broaden your supplier base - no more tribal knowledge</li>\n</ul>\n
LOCATION:IPS Training Facility 25 W. Broad Street Suite 6 Cookeville\, TN 38501
UID:e.1492.3139
SEQUENCE:3
DTSTAMP:20260424T022701Z
URL:http://business.tnchamber.org/events/details/introduction-to-gd-t-june-25-2026-3139
END:VEVENT

END:VCALENDAR
